BEGIN:VCALENDAR
VERSION:2.0
PRODID:-//DCSA - ECPv6.15.20//NONSGML v1.0//EN
CALSCALE:GREGORIAN
METHOD:PUBLISH
X-ORIGINAL-URL:https://mydcsa.ca
X-WR-CALDESC:Events for DCSA
REFRESH-INTERVAL;VALUE=DURATION:PT1H
X-Robots-Tag:noindex
X-PUBLISHED-TTL:PT1H
BEGIN:VTIMEZONE
TZID:UTC
BEGIN:STANDARD
TZOFFSETFROM:+0000
TZOFFSETTO:+0000
TZNAME:UTC
DTSTART:20240101T000000
END:STANDARD
END:VTIMEZONE
BEGIN:VEVENT
DTSTART;TZID=UTC:20260325T100000
DTEND;TZID=UTC:20260325T160000
DTSTAMP:20260420T082109
CREATED:20260306T215618Z
LAST-MODIFIED:20260306T215618Z
UID:10000104-1774432800-1774454400@mydcsa.ca
SUMMARY:Campus Con Whitby
DESCRIPTION:GUESS WHAT IS COMING TO WHITBY! \nCampus Con is coming to the Whitby campus. Join us for a full day celebrating pop culture with the Comic Con experience right on campus. \n📅 Date: March 25\n⏰ Time: 10 AM – 4 PM\n📍 Location: Don Lovisa Building\, Whitby Campus \nStop by to explore the event\, connect with other fans\, and experience Campus Con hosted by DCSA Esports.
URL:https://mydcsa.ca/event/campus-con-whitby/
LOCATION:Whitby Campus Front Entrance\, 1610 Champlain Ave\, Whitby\, Ontario\, L1N 6A7\, Canada
CATEGORIES:Esports,Other
ATTACH;FMTTYPE=image/png:https://mydcsa.ca/wp-content/uploads/2026/03/campus_con_whitby_digital_instagram.png
END:VEVENT
BEGIN:VEVENT
DTSTART;TZID=UTC:20260113T130000
DTEND;TZID=UTC:20260113T140000
DTSTAMP:20260420T082109
CREATED:20251211T232226Z
LAST-MODIFIED:20251211T232226Z
UID:10000089-1768309200-1768312800@mydcsa.ca
SUMMARY:Therapy Dogs Visit - Whitby
DESCRIPTION:Take a study break and stop by to meet certified therapy dogs in the Don Lovisa Building Atrium at Whitby. These furry friends are here to help you unwind\, de-stress\, and boost your mood. Drop in anytime — no sign-up required!
URL:https://mydcsa.ca/event/therapy-dogs-visit-whitby/
LOCATION:Whitby Campus Front Entrance\, 1610 Champlain Ave\, Whitby\, Ontario\, L1N 6A7\, Canada
CATEGORIES:Other
ATTACH;FMTTYPE=image/png:https://mydcsa.ca/wp-content/uploads/2025/12/frost_events_ig_13_pizzadogswhitby-scaled.png
END:VEVENT
BEGIN:VEVENT
DTSTART;TZID=UTC:20250903T120000
DTEND;TZID=UTC:20250903T150000
DTSTAMP:20260420T082109
CREATED:20250808T184351Z
LAST-MODIFIED:20250811T191539Z
UID:10000049-1756900800-1756911600@mydcsa.ca
SUMMARY:Whitby Block Party
DESCRIPTION:Kick off the semester at Whitby with games\, axe throwing\, music\, food\, and sweet treats at our Between the Bricks Social. It’s the perfect chance to hang out between classes and meet other students during O-Week. \n📅 Wednesday\, September 3\n 🕛 12 PM – 3 PM\n 📍 Whitby Campus – In front of the Don Lovisa Building
URL:https://mydcsa.ca/event/whitby-block-party/
LOCATION:Whitby Campus Front Entrance\, 1610 Champlain Ave\, Whitby\, Ontario\, L1N 6A7\, Canada
CATEGORIES:Other
ATTACH;FMTTYPE=image/png:https://mydcsa.ca/wp-content/uploads/2025/07/placeholder_event_posts.png
END:VEVENT
BEGIN:VEVENT
DTSTART;TZID=UTC:20250414T130000
DTEND;TZID=UTC:20250414T143000
DTSTAMP:20260420T082109
CREATED:20250407T184020Z
LAST-MODIFIED:20250407T184020Z
UID:10000036-1744635600-1744641000@mydcsa.ca
SUMMARY:Ice Cream Pit Stop
DESCRIPTION:Take a break\, beat the heat\, and treat yourself!We’ll be serving free ice cream for our students – just stop by\, scoop up your favourite flavour\, and chill out with us.Don’t miss this cool campus treat! ❄️🎉
URL:https://mydcsa.ca/event/ice-cream-pit-stop/
LOCATION:Whitby Campus Front Entrance\, 1610 Champlain Ave\, Whitby\, Ontario\, L1N 6A7\, Canada
CATEGORIES:Other
ATTACH;FMTTYPE=image/png:https://mydcsa.ca/wp-content/uploads/2025/04/brainbreak_EVENTS-IG_5-ice-cream.png
END:VEVENT
END:VCALENDAR