BEGIN:VCALENDAR
VERSION:2.0
PRODID:-//DCSA - ECPv6.15.20//NONSGML v1.0//EN
CALSCALE:GREGORIAN
METHOD:PUBLISH
X-ORIGINAL-URL:https://mydcsa.ca
X-WR-CALDESC:Events for DCSA
REFRESH-INTERVAL;VALUE=DURATION:PT1H
X-Robots-Tag:noindex
X-PUBLISHED-TTL:PT1H
BEGIN:VTIMEZONE
TZID:UTC
BEGIN:STANDARD
TZOFFSETFROM:+0000
TZOFFSETTO:+0000
TZNAME:UTC
DTSTART:20250101T000000
END:STANDARD
END:VTIMEZONE
BEGIN:VTIMEZONE
TZID:America/Toronto
BEGIN:DAYLIGHT
TZOFFSETFROM:-0500
TZOFFSETTO:-0400
TZNAME:EDT
DTSTART:20250309T070000
END:DAYLIGHT
BEGIN:STANDARD
TZOFFSETFROM:-0400
TZOFFSETTO:-0500
TZNAME:EST
DTSTART:20251102T060000
END:STANDARD
BEGIN:DAYLIGHT
TZOFFSETFROM:-0500
TZOFFSETTO:-0400
TZNAME:EDT
DTSTART:20260308T070000
END:DAYLIGHT
BEGIN:STANDARD
TZOFFSETFROM:-0400
TZOFFSETTO:-0500
TZNAME:EST
DTSTART:20261101T060000
END:STANDARD
BEGIN:DAYLIGHT
TZOFFSETFROM:-0500
TZOFFSETTO:-0400
TZNAME:EDT
DTSTART:20270314T070000
END:DAYLIGHT
BEGIN:STANDARD
TZOFFSETFROM:-0400
TZOFFSETTO:-0500
TZNAME:EST
DTSTART:20271107T060000
END:STANDARD
END:VTIMEZONE
BEGIN:VEVENT
DTSTART;TZID=UTC:20260407T120000
DTEND;TZID=UTC:20260407T140000
DTSTAMP:20260425T064758
CREATED:20260406T230105Z
LAST-MODIFIED:20260406T230105Z
UID:10000116-1775563200-1775570400@mydcsa.ca
SUMMARY:Tekken 8 Tournament - Whibty
DESCRIPTION:The DCSA Esports team is bringing TEKKEN 8 to the Whitby campus! Whether you’re a Mishima main or just looking to mash some buttons between classes\, come out and show us what you’ve got.\n📅 Event Details:\nWhen: Tuesday\, April 7\nTime: 12:00 PM – 2:00 PM\nWhere: Whitby Esports Arena \nBring your A-game\, claim your bragging rights\, and see who comes out on top! 🎮🏆
URL:https://mydcsa.ca/event/tekken-8-tournament-whibty/
CATEGORIES:Esports,Other
ATTACH;FMTTYPE=image/png:https://mydcsa.ca/wp-content/uploads/2026/04/esports_whitby_tekken8_tournament.png
END:VEVENT
BEGIN:VEVENT
DTSTART;TZID=UTC:20260407T130000
DTEND;TZID=UTC:20260407T150000
DTSTAMP:20260425T064758
CREATED:20260330T233805Z
LAST-MODIFIED:20260330T233810Z
UID:10000109-1775566800-1775574000@mydcsa.ca
SUMMARY:2XKO Tournament - Oshawa Campus
DESCRIPTION:Get your combos ready! 🥊 We’re bringing a 2XKO Tournament to our Oshawa Esports space\, and you won’t want to miss it.\nIt’s all going down on console\, and we’ve got some serious loot on the line: \n🏆 Top Prize: For the highest-placing DC student.\n🎁 Exclusive Gear: Every full-time DC student who competes walks away with some exclusive 2XKO merch! \nThe Details:\n📍 Where: Oshawa Esports\n🗓️ When: Tuesday\, April 7th\n⏰ Time: 1:00 pm – 3:00 pm
URL:https://mydcsa.ca/event/2xko-tournament-oshawa-campus/
LOCATION:Esports Oshawa
CATEGORIES:Esports,Other
ATTACH;FMTTYPE=image/png:https://mydcsa.ca/wp-content/uploads/2026/03/esports_tournament_oshawa_2xko.png
END:VEVENT
BEGIN:VEVENT
DTSTART;TZID=UTC:20260413T110000
DTEND;TZID=UTC:20260413T150000
DTSTAMP:20260425T064758
CREATED:20260330T233503Z
LAST-MODIFIED:20260330T233532Z
UID:10000108-1776078000-1776092400@mydcsa.ca
SUMMARY:Dough-not stress
DESCRIPTION:Dough-not stress\, DC—the treats are on us! 🍩✨ \nWe know things can get a little hectic this time of year\, so the DCSA is bringing some sweetness to your Monday to help you recharge. Come grab a FREE doughnut on April 13th at either campus! \nHere’s where you can find us:\n📍 Whitby Campus\n🗓️ April 13 @ 11:00 AM\n🚪 DCSA Office (Caf) \n📍 Oshawa Campus\n🗓️ April 13 @ 1:30 PM\n🚪 DCSA Student Centre \nMake sure to get there early—these are only available while supplies last! 🏃💨
URL:https://mydcsa.ca/event/dough-not-stress/
CATEGORIES:Other
ATTACH;FMTTYPE=image/png:https://mydcsa.ca/wp-content/uploads/2026/03/dough_not_stress-scaled.png
END:VEVENT
BEGIN:VEVENT
DTSTART;TZID=UTC:20260414T130000
DTEND;TZID=UTC:20260414T150000
DTSTAMP:20260425T064758
CREATED:20260401T184535Z
LAST-MODIFIED:20260401T191541Z
UID:10000110-1776171600-1776178800@mydcsa.ca
SUMMARY:De-Stress with Therapy Dogs
DESCRIPTION:Need a paws-itive distraction? 🐾✨ \nOur favourite furry friends are back on campus! Come by for some puppy pets and lower those stress levels before your next big study session. \n📅 When: Tuesday\, April 14th\n📍 Where: Student Centre Lounge\n⏰ Time: 1:00 PM
URL:https://mydcsa.ca/event/de-stress-with-therapy-dogs/
LOCATION:Student Centre Lounge\, 12 Commencement Dr\, Oshawa\, ON\, ON L1G 0C5\, Canada
CATEGORIES:Other
ATTACH;FMTTYPE=image/png:https://mydcsa.ca/wp-content/uploads/2026/04/brainbreak_events_01_dogs-scaled.png
END:VEVENT
BEGIN:VEVENT
DTSTART;TZID=UTC:20260415T180000
DTEND;TZID=UTC:20260415T200000
DTSTAMP:20260425T064758
CREATED:20260401T191812Z
LAST-MODIFIED:20260401T192055Z
UID:10000111-1776276000-1776283200@mydcsa.ca
SUMMARY:Bloom in Your Own Time: Paint Night
DESCRIPTION:Bloom in your own time! 🎨🌷 \nGet your creative juices flowing and take a break from the books. We’re providing everything you need to create your own masterpiece at Paint Night. \n⚠️ Space is limited | First-come\, first-served. \n📅 When: Wednesday\, April 15th\n📍 Where: Student Centre\, Rm 217\n⏰ Time: 6:00 PM
URL:https://mydcsa.ca/event/bloom-in-your-own-time-paint-night/
LOCATION:Student Centre Room 217\, 12 Commencement Dr\, Oshawa\, ON\, L1G 0C5\, Canada
CATEGORIES:Other
ATTACH;FMTTYPE=image/png:https://mydcsa.ca/wp-content/uploads/2026/04/brainbreak_events_02_paint-scaled.png
END:VEVENT
BEGIN:VEVENT
DTSTART;TZID=UTC:20260416T120000
DTEND;TZID=UTC:20260416T140000
DTSTAMP:20260425T064758
CREATED:20260401T192733Z
LAST-MODIFIED:20260401T192904Z
UID:10000112-1776340800-1776348000@mydcsa.ca
SUMMARY:Skate Your Stress Away
DESCRIPTION:Lace up and clear your head! ⛸️❄️ \nWe’re heading out to help you “Skate your stress away.” It’s the perfect way to get moving and stay refreshed during the finals grind. \nFree skate rentals with your student ID\, but rentals are limited — first-come\, first-served! \n📅 When: Thursday\, April 16th\n📍 Where: Campus Ice Centre\n⏰ Time: 12:00 PM – 2:00 PM
URL:https://mydcsa.ca/event/skate-your-stress-away/
CATEGORIES:Other
ATTACH;FMTTYPE=image/png:https://mydcsa.ca/wp-content/uploads/2026/04/brainbreak_Skate.png
END:VEVENT
BEGIN:VEVENT
DTSTART;TZID=UTC:20260420T130000
DTEND;TZID=UTC:20260420T150000
DTSTAMP:20260425T064758
CREATED:20260401T194526Z
LAST-MODIFIED:20260401T194526Z
UID:10000113-1776690000-1776697200@mydcsa.ca
SUMMARY:DCSA Crafternoon: Leave Your Worried Behind
DESCRIPTION:Leave your worries behind! ✂️🎨 \nFeeling overwhelmed? Take a break and join DCSA for Crafternoon\, designed to help you unwind and recharge. We’ll have all the supplies you need—just bring yourself. Charm bracelets\, flower pot painting\, spring treats \n📅 When: Monday\, April 20th\n📍 Where: Student Centre\, Rm 217\n⏰ Time: 1:00 PM – 3:00 PM
URL:https://mydcsa.ca/event/dcsa-crafternoon-leave-your-worried-behind/
LOCATION:Student Centre Room 217\, 12 Commencement Dr\, Oshawa\, ON\, L1G 0C5\, Canada
CATEGORIES:Other
ATTACH;FMTTYPE=image/png:https://mydcsa.ca/wp-content/uploads/2026/04/brainbreak_events_ig_04_craft-scaled.png
END:VEVENT
BEGIN:VEVENT
DTSTART;TZID=UTC:20260421T130000
DTEND;TZID=UTC:20260421T150000
DTSTAMP:20260425T064758
CREATED:20260401T194955Z
LAST-MODIFIED:20260401T195133Z
UID:10000114-1776776400-1776783600@mydcsa.ca
SUMMARY:Therapy Dogs and Earth Day Crafternoon - Whitby
DESCRIPTION:Double the fun at Whitby! 🐾🌍 \nWe’ve got a busy Tuesday planned. Start with some therapy dog snuggles at the Atrium\, then join us for an Earth Day-themed Crafternoon! \n📅 When: Tuesday\, April 21st\n📍 Where: Threapy Dogs: Atrium\n📍 Where: Crafternoon: DCSA Office/Café\n⏰ Time: 1:00 PM – 3:00 PM
URL:https://mydcsa.ca/event/therapy-dogs-and-earth-day-crafternoon-whitby/
LOCATION:Whitby Campus Front Entrance\, 1610 Champlain Ave\, Whitby\, Ontario\, L1N 6A7\, Canada
CATEGORIES:Other
ATTACH;FMTTYPE=image/png:https://mydcsa.ca/wp-content/uploads/2026/04/brainbreak_events_05_dogcraft-scaled.png
END:VEVENT
BEGIN:VEVENT
DTSTART;TZID=UTC:20260422T080000
DTEND;TZID=UTC:20260422T170000
DTSTAMP:20260425T064758
CREATED:20260401T195904Z
LAST-MODIFIED:20260401T213846Z
UID:10000115-1776844800-1776877200@mydcsa.ca
SUMMARY:Green Vibes Only: Campus Clean Up & Crafts
DESCRIPTION:Green Vibes Only! 🌿🌎 \nJoin the DCSA this Earth Day to help keep our campus beautiful and get a little crafty! We’re kicking things off with a campus clean up and keeping the energy going with some eco-friendly DIYs. \nCampus Clean Up\n📅 When: Wednesday\, April 22nd\n📍 Where: Pickup at DCSA Student Centre\n⏰ Time: 10:00 AM – 12:00 PM\n✨ Note: Bags and gloves provided! \nEarth Day Crafternoon\n 📅 When: Wednesday\, April 22nd\n📍 Where: DCSA Student Lounge\n⏰ Time: 1:00 PM – 3:00 PM\n✨ Note: Making bird feeders & wildflower seed bombs!
URL:https://mydcsa.ca/event/green-vibes-only-campus-clean-up-crafts/
LOCATION:DCSA Student Centre\, 2000 Simcoe St N\, Oshawa\, Ontario\, L1G 0C5\, Canada
CATEGORIES:Other
ATTACH;FMTTYPE=image/png:https://mydcsa.ca/wp-content/uploads/2026/04/brainbreak_events_ig_06_green2-scaled.png
END:VEVENT
BEGIN:VEVENT
DTSTART;TZID=America/Toronto:20260506T130000
DTEND;TZID=America/Toronto:20260506T150000
DTSTAMP:20260425T064758
CREATED:20260413T123230Z
LAST-MODIFIED:20260421T164401Z
UID:10000117-1778072400-1778079600@mydcsa.ca
SUMMARY:Vision & Vibes - Vision Board Making
DESCRIPTION:What does your future look like? \nCome create a vision board with DCSA. Reflect on your goals\, aspirations\, and the life you’re building. Snacks and Chai will be served. \nWhen: May 6th\nWhere: Oshawa Campus Student Centre Room 217\nWhen: 1 pm – 3 pm
URL:https://mydcsa.ca/event/vision-vibes-vision-board-making/
LOCATION:Student Centre Room 217\, 12 Commencement Dr\, Oshawa\, ON\, L1G 0C5\, Canada
CATEGORIES:Other
ATTACH;FMTTYPE=image/png:https://mydcsa.ca/wp-content/uploads/2026/04/vision_vibes_ig.png
END:VEVENT
BEGIN:VEVENT
DTSTART;TZID=UTC:20260507T110000
DTEND;TZID=UTC:20260507T150000
DTSTAMP:20260425T064758
CREATED:20260413T165852Z
LAST-MODIFIED:20260421T164338Z
UID:10000118-1778151600-1778166000@mydcsa.ca
SUMMARY:Ice Cream Day
DESCRIPTION:Watch out for the ice cream truck pulling into both campuses\, giving away Free ice cream with DCSA! \nWhitby Campus\nWhen: May 7th\nWhere: Out front of the Don Lovisa building\nWhen: 11:00 am – 12:30 pm \nOshawa Campus\nWhen: May 7th\nWhere: outside the Student Centre\nWhen: 2:00 pm – 3:30 pm
URL:https://mydcsa.ca/event/ice-cream-day/
LOCATION:DCSA Student Centre\, 2000 Simcoe St N\, Oshawa\, Ontario\, L1G 0C5\, Canada
CATEGORIES:Other
ATTACH;FMTTYPE=image/png:https://mydcsa.ca/wp-content/uploads/2026/04/ice_cream_ig-scaled.png
END:VEVENT
BEGIN:VEVENT
DTSTART;TZID=UTC:20260511T120000
DTEND;TZID=UTC:20260511T140000
DTSTAMP:20260425T064758
CREATED:20260416T001127Z
LAST-MODIFIED:20260421T164310Z
UID:10000121-1778500800-1778508000@mydcsa.ca
SUMMARY:Skate with DCSA
DESCRIPTION:Looking for a fun way to spend your Monday afternoon? Lace up your skates and join the DCSA for an open skate at the Campus Ice Centre! From 12:00 PM to 2:00 PM on May 11th\, we’re taking over the rink for a session filled with great music\, delicious snacks\, and a chance to hit the ice with your fellow students. \nWhether you’re a seasoned pro or a total beginner\, everyone is welcome to join the fun. If you don’t have your own gear\, don’t worry—free skate rentals are available when you show your student ID. Just be sure to arrive early\, as rentals are limited and provided on a first-come\, first-served basis. Grab your friends and come make the most of your break on the ice!
URL:https://mydcsa.ca/event/skate-with-dcsa/
LOCATION:Campus Ice Centre\, 2200 Simcoe St N\, Oshawa\, ON\, L1L 0B7\, Canada
CATEGORIES:Other
ATTACH;FMTTYPE=image/png:https://mydcsa.ca/wp-content/uploads/2026/04/open_skate_ig-scaled.png
END:VEVENT
BEGIN:VEVENT
DTSTART;TZID=UTC:20260512T170000
DTEND;TZID=UTC:20260512T230000
DTSTAMP:20260425T064758
CREATED:20260415T210014Z
LAST-MODIFIED:20260421T163442Z
UID:10000120-1778605200-1778626800@mydcsa.ca
SUMMARY:Take Me Out to the Ball Game! - Blue Jay
DESCRIPTION:Take me out to the ball game!! ⚾️🌭 \nReady for a break? Join DCSA as we head to the Rogers Centre for Loonie Dog Night! Cheer on the Blue Jays and enjoy $1 hot dogs all game long. We’ve got the transportation and tickets covered—just bring your team spirit! \n📅 When: Tuesday\, May 12th\n📍 Departure: The Student Centre (5:00 PM)\n💰 Price: $25 for Students | $35 for Guests (Bus included) \nTickets here: https://mydcsa.square.site 
URL:https://mydcsa.ca/event/take-me-out-to-the-ball-game-blue-jay/
LOCATION:Rogers Centre\, 1 Blue Jays Way\, Toronto\, ON\, M5V 1J3\, Canada
CATEGORIES:Other
ATTACH;FMTTYPE=image/png:https://mydcsa.ca/wp-content/uploads/2026/04/blue_jays_2026.png
END:VEVENT
BEGIN:VEVENT
DTSTART;TZID=UTC:20260514T110000
DTEND;TZID=UTC:20260514T150000
DTSTAMP:20260425T064758
CREATED:20260416T002125Z
LAST-MODIFIED:20260421T164233Z
UID:10000122-1778756400-1778770800@mydcsa.ca
SUMMARY:Puppy Social
DESCRIPTION:Need a mid-week pick-me-up? The Student Centre is about to get a whole lot cuter! Join the DCSA on May 14th for our Puppy Social. Whether you need a quick cuddle or just want to watch them play\, these four-legged stress-relievers are here to provide an instant mood boost. \nThis is a drop-in event running from 11:00 AM to 3:00 PM\, but make sure to take note of the specific social hours for maximum interaction! You can catch the puppies for playtime from 11:00 AM – 12:00 PM and again from 1:00 PM – 2:00 PM.
URL:https://mydcsa.ca/event/puppt-social/
LOCATION:DCSA Student Centre\, 2000 Simcoe St N\, Oshawa\, Ontario\, L1G 0C5\, Canada
CATEGORIES:Other
ATTACH;FMTTYPE=image/png:https://mydcsa.ca/wp-content/uploads/2026/04/puppy_social_ig-scaled.png
END:VEVENT
END:VCALENDAR