BEGIN:VCALENDAR
VERSION:2.0
PRODID:-//DCSA - ECPv6.15.20//NONSGML v1.0//EN
CALSCALE:GREGORIAN
METHOD:PUBLISH
X-ORIGINAL-URL:https://mydcsa.ca
X-WR-CALDESC:Events for DCSA
REFRESH-INTERVAL;VALUE=DURATION:PT1H
X-Robots-Tag:noindex
X-PUBLISHED-TTL:PT1H
BEGIN:VTIMEZONE
TZID:UTC
BEGIN:STANDARD
TZOFFSETFROM:+0000
TZOFFSETTO:+0000
TZNAME:UTC
DTSTART:20240101T000000
END:STANDARD
END:VTIMEZONE
BEGIN:VEVENT
DTSTART;TZID=UTC:20251007T140000
DTEND;TZID=UTC:20251007T160000
DTSTAMP:20260425T081347
CREATED:20250924T210012Z
LAST-MODIFIED:20250924T210033Z
UID:10000061-1759845600-1759852800@mydcsa.ca
SUMMARY:Fall Fest – Oshawa
DESCRIPTION:🍂 Fall Fest with DCSA – Oshawa 🍁\nCelebrate the season with us at Fall Fest! Stop by the DCSA Student Centre at Oshawa campus on Tuesday\, October 7\, from 2:00 pm – 4:00 pm for an afternoon of cozy fall fun. \nEnjoy: \n\nFree fruit & veggie bag giveaway (limited quantities)\nSeasonal crafts\nTasty fall treats & popcorn\n\nBring your friends\, grab a snack\, and get into the autumn spirit!
URL:https://mydcsa.ca/event/fall-fest-oshawa/
LOCATION:DCSA Student Centre\, 2000 Simcoe St N\, Oshawa\, Ontario\, L1G 0C5\, Canada
CATEGORIES:Other
ATTACH;FMTTYPE=image/png:https://mydcsa.ca/wp-content/uploads/2025/09/fall_fest_oshawa_ig.png
END:VEVENT
BEGIN:VEVENT
DTSTART;TZID=UTC:20251009T120000
DTEND;TZID=UTC:20251009T140000
DTSTAMP:20260425T081347
CREATED:20250924T210337Z
LAST-MODIFIED:20250924T213158Z
UID:10000062-1760011200-1760018400@mydcsa.ca
SUMMARY:Fall Fest – Whitby
DESCRIPTION:🍂 Fall Fest with DCSA – Whitby 🍁\nCelebrate the season with us at Fall Fest! Stop by the DCSA Whitby Office in the cafeteria at Whitby campus on Thursday\, October 9\, from 12:00 pm – 2:00 pm for an afternoon of cozy fall fun. \nEnjoy some seasonal crafts\, tasty fall treats\, and popcorn. Bring your friends\, grab a snack\, and get into the autumn spirit!
URL:https://mydcsa.ca/event/fall-fest-whitby/
LOCATION:Whitby Cafeteria\, 1610 Champlain Ave\, Whitby\, Ontario\, L1N 6A7\, Canada
CATEGORIES:Other
ATTACH;FMTTYPE=image/png:https://mydcsa.ca/wp-content/uploads/2025/09/fall_fest_whitby_ig-1.png
END:VEVENT
END:VCALENDAR