BEGIN:VCALENDAR
VERSION:2.0
PRODID:-//DCSA - ECPv6.15.20//NONSGML v1.0//EN
CALSCALE:GREGORIAN
METHOD:PUBLISH
X-WR-CALNAME:DCSA
X-ORIGINAL-URL:https://mydcsa.ca
X-WR-CALDESC:Events for DCSA
REFRESH-INTERVAL;VALUE=DURATION:PT1H
X-Robots-Tag:noindex
X-PUBLISHED-TTL:PT1H
BEGIN:VTIMEZONE
TZID:UTC
BEGIN:STANDARD
TZOFFSETFROM:+0000
TZOFFSETTO:+0000
TZNAME:UTC
DTSTART:20240101T000000
END:STANDARD
END:VTIMEZONE
BEGIN:VEVENT
DTSTART;TZID=UTC:20251112T100000
DTEND;TZID=UTC:20251112T140000
DTSTAMP:20260419T081735
CREATED:20251111T005933Z
LAST-MODIFIED:20251111T005933Z
UID:10000071-1762941600-1762956000@mydcsa.ca
SUMMARY:Esports Industry Symposium
DESCRIPTION:🎮 Level up your career in Esports! 🎮 \nIn collaboration with Durham College Career Development\, join us on Wednesday\, November 12th\, for the Esports Industry Symposium — your chance to gain insight from top industry professionals\, network with experts\, and get exclusive hands-on access to the DC Esports Lounge! \n💬 10–11 a.m. Q&A Panel\n🎮 11 a.m.–12 p.m. Esports Lounge access\n🍴 12–2 p.m. Networking lunch provided by Smash’d Kitchen \nMeet panellists:\n🎙️ Michael Cameron – DC Professor & Twitch Streamer\n🎵 Felix Arifin – Music Composer for multiple games\n🤝 Francisco Tejada – Senior Partnerships & Marketing Strategist\, PlayVS\n📓Chris Lamarucciola – Manager\, Esports\, Athletics and Recreation Department\, Conestoga College \n📅 Wednesday\, Nov. 12\n🕙 10 a.m.–2 p.m.\n📍 Durham College Esports Lounge\n✨ Registration required – space is limited!
URL:https://mydcsa.ca/event/esports-industry-symposium/
LOCATION:Esports Oshawa
CATEGORIES:Esports,Other
ATTACH;FMTTYPE=image/png:https://mydcsa.ca/wp-content/uploads/2025/11/esports_symposium_ig.png
END:VEVENT
BEGIN:VEVENT
DTSTART;TZID=UTC:20251119T130000
DTEND;TZID=UTC:20251119T150000
DTSTAMP:20260419T081735
CREATED:20251111T005710Z
LAST-MODIFIED:20251111T005710Z
UID:10000070-1763557200-1763564400@mydcsa.ca
SUMMARY:NHL 94 Rewind
DESCRIPTION:🏒 It’s time to hit the ice—retro style! 🎮 \nJoin us for an NHL 94’ Rewind Tournament and relive the glory days of classic hockey gaming. Can you take home the win? 🏆 \n📅 Wednesday\, November 19\n🕐 1 PM – 3 PM\n📍 Whitby Esports Lounge \nBring your A-game and your old-school hockey spirit! 💪 \n#DCSAESports #DurhamCollege #NHLEsports#RetroGaming
URL:https://mydcsa.ca/event/nhl-94-rewind/
LOCATION:Whitby Esports Lounge\, 1610 Champlain Ave\, Whitby\, ON\, L1N 6A7\, Canada
CATEGORIES:Esports,Other
ATTACH;FMTTYPE=image/png:https://mydcsa.ca/wp-content/uploads/2025/11/esports_whitby_nhl94_rewind-scaled.png
END:VEVENT
BEGIN:VEVENT
DTSTART;TZID=UTC:20251126T130000
DTEND;TZID=UTC:20251126T150000
DTSTAMP:20260419T081735
CREATED:20251111T010512Z
LAST-MODIFIED:20251111T010512Z
UID:10000074-1764162000-1764169200@mydcsa.ca
SUMMARY:Retor Game Day
DESCRIPTION:🎮 It’s time to press start—retro style! 👾\nJoin us for Retro Game Day and relive the classics that started it all. From pixel adventures to arcade legends\, it’s all about the old-school fun! 🕹️ \n📅 Wednesday\, November 26\n🕐 1 PM – 3 PM\n📍 Esports Oshawa\nGrab your friends and get ready for a nostalgia-packed afternoon! 💾
URL:https://mydcsa.ca/event/retor-game-day/
LOCATION:Esports Oshawa
CATEGORIES:Esports,Other
ATTACH;FMTTYPE=image/png:https://mydcsa.ca/wp-content/uploads/2025/11/esports_oshawa_retro_game_day-scaled.png
END:VEVENT
END:VCALENDAR