BEGIN:VCALENDAR
VERSION:2.0
PRODID:-//DCSA - ECPv6.15.20//NONSGML v1.0//EN
CALSCALE:GREGORIAN
METHOD:PUBLISH
X-ORIGINAL-URL:https://mydcsa.ca
X-WR-CALDESC:Events for DCSA
REFRESH-INTERVAL;VALUE=DURATION:PT1H
X-Robots-Tag:noindex
X-PUBLISHED-TTL:PT1H
BEGIN:VTIMEZONE
TZID:UTC
BEGIN:STANDARD
TZOFFSETFROM:+0000
TZOFFSETTO:+0000
TZNAME:UTC
DTSTART:20240101T000000
END:STANDARD
END:VTIMEZONE
BEGIN:VEVENT
DTSTART;TZID=UTC:20250303T160000
DTEND;TZID=UTC:20250303T173000
DTSTAMP:20260419T203906
CREATED:20250228T211451Z
LAST-MODIFIED:20250228T211451Z
UID:10000017-1741017600-1741023000@mydcsa.ca
SUMMARY:Foamstars Drop In
DESCRIPTION:Stop by the Esports Lounge and try out Foamstars. \nUse foam to build terrain\, create slippery surfaces to surf around the arena at high speed\, help defend from enemy attacks\, or create vantage points to take out opponents. Most importantly\, foam up the opposition! \n📅 Monday\, March 3rd\n⏰ 4 PM – 5:30 PM\n📍 Esports Student Lounge
URL:https://mydcsa.ca/event/foamstars-drop-in/
LOCATION:Esports Oshawa
CATEGORIES:Esports
ATTACH;FMTTYPE=image/png:https://mydcsa.ca/wp-content/uploads/2025/02/esports_foamstars_play_day.png
END:VEVENT
BEGIN:VEVENT
DTSTART;TZID=UTC:20250303T180000
DTEND;TZID=UTC:20250303T200000
DTSTAMP:20260419T203906
CREATED:20250228T211623Z
LAST-MODIFIED:20250228T211643Z
UID:10000018-1741024800-1741032000@mydcsa.ca
SUMMARY:Gunpla Model Kit Build Night
DESCRIPTION:Calling all Gunpla and Pokepla enthusiasts! 🛠️✨ Join us for an epic model kit-building session facilitated by the amazing @gunplasisters! 🤖🎨 All model kits and required supplies will be provided FREE of charge. \nLimited seating—first come\, first served! This event is only open to current full-time Durham College students. 🎟️ \n📍Esports Student Lounge\n📅 MAR 3RD | 6PM – 8 PM
URL:https://mydcsa.ca/event/gunpla-building/
LOCATION:Esports Oshawa
CATEGORIES:Esports
ATTACH;FMTTYPE=image/png:https://mydcsa.ca/wp-content/uploads/2025/02/esports_gunpla.png
END:VEVENT
BEGIN:VEVENT
DTSTART;TZID=UTC:20250304T110000
DTEND;TZID=UTC:20250304T160000
DTSTAMP:20260419T203906
CREATED:20250228T212021Z
LAST-MODIFIED:20250228T212021Z
UID:10000019-1741086000-1741104000@mydcsa.ca
SUMMARY:Campus Con 2
DESCRIPTION:t’s back\, bigger\, and better! 🎉🦸‍♀️🕵️‍♂️\nJoin us for Campus Con 2 with MORE vendors\, MORE giveaways\, and MORE pop culture! \n🗓️ Tuesday\, March 4th\, 2025\n🕚 11 AM – 4 PM\n📍 Student Centre Building \nCome experience the comic-con vibe right on campus—don’t miss out! \nCheck out the incredible lineup of vendors at Campus Con! From art and collectibles to gaming and more\, there’s something for everyone. 🎨🎮✨ \nMonster Energy\nThe 3D Shoppe\nSamJams Pixel Art\nThinknu\nTakkun\nClaw4Me\n8-Bit Beans Cafe & Gaming Lounge\nDC’s Anime United ⭐\nCon-Quest Crafts\nLankesh Engrave\nMetaslug Keycap\nTata Games Studio\nChoyling\nHeroic Dreams\nArgama Hobby Ltd.\nTwin Moons Studio\nPrefire.co\nToronto Game Expo\nHeartOrbit ⭐\nHotshot Retail ⭐\nDimo Makes Cartoons ⭐\nHip Motorsports\nLexarts_⭐
URL:https://mydcsa.ca/event/campus-con-2/
LOCATION:Esports Oshawa
CATEGORIES:Esports
ATTACH;FMTTYPE=image/png:https://mydcsa.ca/wp-content/uploads/2025/02/campus_con_ig_post_main.png
END:VEVENT
BEGIN:VEVENT
DTSTART;TZID=UTC:20250304T130000
DTEND;TZID=UTC:20250304T150000
DTSTAMP:20260419T203906
CREATED:20250228T214041Z
LAST-MODIFIED:20250228T214128Z
UID:10000020-1741093200-1741100400@mydcsa.ca
SUMMARY:Stretching & Posture For Esports
DESCRIPTION:Join us for an 80-minute informative session on how to care for yourself as a gamer! \n📆 Tuesday\, March 4\n⏰ Presentation: 1:00-2:30 p.m. | Q&A: 2:30-3:00 p.m.\n📍 Esports Gaming Arena\, SC105\nℹ️ Presented by Eric Vianna\, a personal trainer at the FLEX Fitness Centre with a diverse background in sports\, gaming and overall wellness\, this workshop will target proper posture\, do’s and don’ts for esports athletes\, stretching best practices\, and an overview on nutrition \nTo join us for this awesome event\, view the registration
URL:https://mydcsa.ca/event/stretching-posture-for-esports/
LOCATION:Esports Oshawa
CATEGORIES:Esports
ATTACH;FMTTYPE=image/png:https://mydcsa.ca/wp-content/uploads/2025/02/Stretching-Posture-for-Esports-1.png
END:VEVENT
BEGIN:VEVENT
DTSTART;TZID=UTC:20250305T160000
DTEND;TZID=UTC:20250305T173000
DTSTAMP:20260419T203906
CREATED:20250203T194812Z
LAST-MODIFIED:20250203T194812Z
UID:10000016-1741190400-1741195800@mydcsa.ca
SUMMARY:Minecraft Community Day
DESCRIPTION:Calling all fellow builders! \nJoin us in the Esports Student Lounge and play alongside other Minecraft enthusiasts. \n📅 Date: Wednesday\, March 5th\n⏰ Time: 4:00 PM – 5:30 PM\n📍 Location: Esports Student Lounge
URL:https://mydcsa.ca/event/minecraft-community-day/
LOCATION:Esports Oshawa
CATEGORIES:Esports
ATTACH;FMTTYPE=image/png:https://mydcsa.ca/wp-content/uploads/2025/02/esports_minecraft_community_day-e1738594057737.png
END:VEVENT
BEGIN:VEVENT
DTSTART;TZID=UTC:20250320T130000
DTEND;TZID=UTC:20250320T150000
DTSTAMP:20260419T203906
CREATED:20250312T195656Z
LAST-MODIFIED:20250312T195808Z
UID:10000031-1742475600-1742482800@mydcsa.ca
SUMMARY:Just Dance Game Day
DESCRIPTION:Show off your moves and jump into our Just Dance 2025 game day.💃🕺 Everyone is welcome at this drop-in event! Grab your friends and show off your moves!🕺 \n📅 When: Thursday\, March 20th\n🕕 Time: 1 PM – 3 PM\n📍 Where: Esport Student Lounge
URL:https://mydcsa.ca/event/just-dance-game-day/
LOCATION:Esports Oshawa
CATEGORIES:Esports
ATTACH;FMTTYPE=image/png:https://mydcsa.ca/wp-content/uploads/2025/03/esports_justdance.png
END:VEVENT
BEGIN:VEVENT
DTSTART;TZID=UTC:20250320T170000
DTEND;TZID=UTC:20250320T180000
DTSTAMP:20260419T203906
CREATED:20250312T200153Z
LAST-MODIFIED:20250312T200153Z
UID:10000032-1742490000-1742493600@mydcsa.ca
SUMMARY:Valorant Challengers Watch Party
DESCRIPTION:🎯 Calling all Valorant enthusiasts! Join us in the Esports Lounge from 5 – 6 PM to watch Game 1 of this NA Challengers matchup LIVE! 🔥 🎁 Giveaways available for DC students! Don’t miss out! 👀
URL:https://mydcsa.ca/event/valorant-challengers-watch-party/
LOCATION:Esports Oshawa
CATEGORIES:Esports
ATTACH;FMTTYPE=image/png:https://mydcsa.ca/wp-content/uploads/2025/03/esports_valorant_challengers.png
END:VEVENT
END:VCALENDAR