BEGIN:VCALENDAR
VERSION:2.0
PRODID:-//DCSA - ECPv6.15.20//NONSGML v1.0//EN
CALSCALE:GREGORIAN
METHOD:PUBLISH
X-ORIGINAL-URL:https://mydcsa.ca
X-WR-CALDESC:Events for DCSA
REFRESH-INTERVAL;VALUE=DURATION:PT1H
X-Robots-Tag:noindex
X-PUBLISHED-TTL:PT1H
BEGIN:VTIMEZONE
TZID:UTC
BEGIN:STANDARD
TZOFFSETFROM:+0000
TZOFFSETTO:+0000
TZNAME:UTC
DTSTART:20240101T000000
END:STANDARD
END:VTIMEZONE
BEGIN:VEVENT
DTSTART;TZID=UTC:20250207T130000
DTEND;TZID=UTC:20250207T150000
DTSTAMP:20260419T222914
CREATED:20250130T012236Z
LAST-MODIFIED:20250203T193952Z
UID:10000015-1738933200-1738940400@mydcsa.ca
SUMMARY:Madden 25 Tournament
DESCRIPTION:🏈🎮 Get Ready for Game Day! 🎮🏈 \nIn anticipation of Super Bowl LIX\, we’re hosting a Madden 25 Tournament! Test your skills\, showcase your strategy\, and compete for prizing for the top placing full-time DC student! 🏆 \n📅 Friday\, February 7th\n🕐 1:00 PM – 3:00 PM\n📍 Esports Student Lounge \nDon’t miss your chance to score big and get hyped for the Super Bowl! Are you ready to take the win? 🏟️
URL:https://mydcsa.ca/event/madden-25-tournament/
LOCATION:Esports Oshawa
CATEGORIES:Esports
ATTACH;FMTTYPE=image/png:https://mydcsa.ca/wp-content/uploads/2025/01/esports_madden_25_tournament.png
END:VEVENT
END:VCALENDAR