BEGIN:VCALENDAR
VERSION:2.0
PRODID:-//DCSA - ECPv6.15.20//NONSGML v1.0//EN
CALSCALE:GREGORIAN
METHOD:PUBLISH
X-ORIGINAL-URL:http://mydcsa.ca
X-WR-CALDESC:Events for DCSA
REFRESH-INTERVAL;VALUE=DURATION:PT1H
X-Robots-Tag:noindex
X-PUBLISHED-TTL:PT1H
BEGIN:VTIMEZONE
TZID:UTC
BEGIN:STANDARD
TZOFFSETFROM:+0000
TZOFFSETTO:+0000
TZNAME:UTC
DTSTART:20240101T000000
END:STANDARD
END:VTIMEZONE
BEGIN:VEVENT
DTSTART;TZID=UTC:20260311T100000
DTEND;TZID=UTC:20260311T160000
DTSTAMP:20260424T235507
CREATED:20260226T003337Z
LAST-MODIFIED:20260306T005158Z
UID:10000101-1773223200-1773244800@mydcsa.ca
SUMMARY:Campus Con 4
DESCRIPTION:Heroes\, villains\, and everything in between—Campus Con is BACK! 🎭✨ \nStep into a world of cosplay\, pop culture\, and giveaways—all without leaving campus. \n🗓️ Wednesday\, March 11th\, 2026\n🕚 10 AM – 4 PM\n📍 The Pit Oshawa Campus \nYour ultimate Comic Con experience… right here at home. 💥 \nWhitby Campus… stay tuned 👀
URL:http://mydcsa.ca/event/campus-con-4/
LOCATION:The Pit
CATEGORIES:Esports,Other
ATTACH;FMTTYPE=image/png:http://mydcsa.ca/wp-content/uploads/2026/02/campus_con_digital_instagram.png
END:VEVENT
BEGIN:VEVENT
DTSTART;TZID=UTC:20260224T130000
DTEND;TZID=UTC:20260224T150000
DTSTAMP:20260424T235507
CREATED:20260220T020039Z
LAST-MODIFIED:20260220T021235Z
UID:10000100-1771938000-1771945200@mydcsa.ca
SUMMARY:DCSA Unplugged: Amplifying Black Voices
DESCRIPTION:A celebration of music\, creativity\, and community as we showcase the incredible talent of DC students in honour of Black History Month. \nCome support. Come connect. Come feel the rhythm. 🖤🎤
URL:http://mydcsa.ca/event/dcsa-unplugged-amplifying-black-voices/
LOCATION:The Pit
CATEGORIES:Other
ATTACH;FMTTYPE=image/png:http://mydcsa.ca/wp-content/uploads/2026/02/unplugged_ig-scaled.png
END:VEVENT
BEGIN:VEVENT
DTSTART;TZID=UTC:20260119T110000
DTEND;TZID=UTC:20260119T140000
DTSTAMP:20260424T235507
CREATED:20251211T233830Z
LAST-MODIFIED:20251211T233830Z
UID:10000094-1768820400-1768831200@mydcsa.ca
SUMMARY:Wellness Check-in with DCSA
DESCRIPTION:Visit the Wellness Check-In in The Pit for health plan info\, mental wellness resources\, treats\, and giveaways from the DCSA team. It’s a perfect time to reconnect\, ask questions\, and take a moment for self-care.
URL:http://mydcsa.ca/event/wellness-check-in-with-dcsa/
LOCATION:The Pit
CATEGORIES:Other
ATTACH;FMTTYPE=image/png:http://mydcsa.ca/wp-content/uploads/2025/12/frost_events_ig_19_wellness-scaled.png
END:VEVENT
BEGIN:VEVENT
DTSTART;TZID=UTC:20251202T110000
DTEND;TZID=UTC:20251202T140000
DTSTAMP:20260424T235507
CREATED:20251125T235739Z
LAST-MODIFIED:20251125T235739Z
UID:10000081-1764673200-1764684000@mydcsa.ca
SUMMARY:Brain Break: Santa Visit
DESCRIPTION:Bring a little extra cheer into your week with a festive visit from Santa. Stop by The Pit for photos\, conversation\, and a moment to relax between classes. This drop-in event is open to all students looking to add a touch of holiday spirit to their day. \nDate: Tuesday\, December 2Time: 11:00 a.m. – 2:00 p.m.Location: Oshawa Campus – The Pit
URL:http://mydcsa.ca/event/brain-break-santa-visit/
LOCATION:The Pit
CATEGORIES:Other
ATTACH;FMTTYPE=image/png:http://mydcsa.ca/wp-content/uploads/2025/11/dec_02.png
END:VEVENT
END:VCALENDAR