BEGIN:VCALENDAR
VERSION:2.0
PRODID:-//DCSA - ECPv6.15.20//NONSGML v1.0//EN
CALSCALE:GREGORIAN
METHOD:PUBLISH
X-ORIGINAL-URL:http://mydcsa.ca
X-WR-CALDESC:Events for DCSA
REFRESH-INTERVAL;VALUE=DURATION:PT1H
X-Robots-Tag:noindex
X-PUBLISHED-TTL:PT1H
BEGIN:VTIMEZONE
TZID:UTC
BEGIN:STANDARD
TZOFFSETFROM:+0000
TZOFFSETTO:+0000
TZNAME:UTC
DTSTART:20240101T000000
END:STANDARD
END:VTIMEZONE
BEGIN:VEVENT
DTSTART;TZID=UTC:20260414T130000
DTEND;TZID=UTC:20260414T150000
DTSTAMP:20260419T134807
CREATED:20260401T184535Z
LAST-MODIFIED:20260401T191541Z
UID:10000110-1776171600-1776178800@mydcsa.ca
SUMMARY:De-Stress with Therapy Dogs
DESCRIPTION:Need a paws-itive distraction? 🐾✨ \nOur favourite furry friends are back on campus! Come by for some puppy pets and lower those stress levels before your next big study session. \n📅 When: Tuesday\, April 14th\n📍 Where: Student Centre Lounge\n⏰ Time: 1:00 PM
URL:http://mydcsa.ca/event/de-stress-with-therapy-dogs/
LOCATION:Student Centre Lounge\, 12 Commencement Dr\, Oshawa\, ON\, ON L1G 0C5\, Canada
CATEGORIES:Other
ATTACH;FMTTYPE=image/png:http://mydcsa.ca/wp-content/uploads/2026/04/brainbreak_events_01_dogs-scaled.png
END:VEVENT
BEGIN:VEVENT
DTSTART;TZID=UTC:20260115T130000
DTEND;TZID=UTC:20260115T140000
DTSTAMP:20260419T134807
CREATED:20251211T233504Z
LAST-MODIFIED:20251211T233504Z
UID:10000092-1768482000-1768485600@mydcsa.ca
SUMMARY:Thearpy Dogs Oshawa
DESCRIPTION:Stop by the Student Centre Lounge in Oshawa to meet certified therapy dogs. This stress-relief visit is a great way to take a breather between classes. All cuddles provided!
URL:http://mydcsa.ca/event/thearpy-dogs-oshawa/
LOCATION:Student Centre Lounge\, 12 Commencement Dr\, Oshawa\, ON\, ON L1G 0C5\, Canada
CATEGORIES:Other
ATTACH;FMTTYPE=image/png:http://mydcsa.ca/wp-content/uploads/2025/12/frost_events_ig_15_dogscraft-scaled.png
END:VEVENT
BEGIN:VEVENT
DTSTART;TZID=UTC:20260115T010000
DTEND;TZID=UTC:20260115T160000
DTSTAMP:20260419T134807
CREATED:20251211T233636Z
LAST-MODIFIED:20251211T233636Z
UID:10000093-1768438800-1768492800@mydcsa.ca
SUMMARY:Crafternoon: Vision Boards
DESCRIPTION:Get creative with us at Crafternoon: Vision Boards! Supplies are provided\, and all students are welcome to drop in and design a personal board to visualize their goals\, dreams\, and plans for the year ahead. No experience needed!
URL:http://mydcsa.ca/event/crafternoon-vision-boards/
LOCATION:Student Centre Lounge\, 12 Commencement Dr\, Oshawa\, ON\, ON L1G 0C5\, Canada
CATEGORIES:Other
ATTACH;FMTTYPE=image/png:http://mydcsa.ca/wp-content/uploads/2025/12/frost_events_ig_15_dogscraft-scaled.png
END:VEVENT
BEGIN:VEVENT
DTSTART;TZID=UTC:20251113T110000
DTEND;TZID=UTC:20251113T140000
DTSTAMP:20260419T134807
CREATED:20251111T005239Z
LAST-MODIFIED:20251111T005239Z
UID:10000069-1763031600-1763042400@mydcsa.ca
SUMMARY:Chill + Create
DESCRIPTION:🍪✨ Sweeten your day AND learn about your health plan! ✨🍪 \nJoin us for Cookie Decorating with Student VIP! 🎨🍪\nGet creative\, decorate some delicious cookies\, and get to know your student health plan better—all FREE and with all supplies provided. \n📅 Date: Thursday\, Nov 13\n⏰ Time: 11 AM – 2 PM\n📍 Location: Student Lounge \nDon’t miss out on the fun—and the cookies! 😋
URL:http://mydcsa.ca/event/chill-create/
LOCATION:Student Centre Lounge\, 12 Commencement Dr\, Oshawa\, ON\, ON L1G 0C5\, Canada
CATEGORIES:Other
ATTACH;FMTTYPE=image/png:http://mydcsa.ca/wp-content/uploads/2025/11/chillcreate_ig_post.png
END:VEVENT
BEGIN:VEVENT
DTSTART;TZID=UTC:20250929T120000
DTEND;TZID=UTC:20250929T150000
DTSTAMP:20260419T134807
CREATED:20250924T165435Z
LAST-MODIFIED:20250924T165435Z
UID:10000059-1759147200-1759158000@mydcsa.ca
SUMMARY:Button Making for Orange Shirt Day
DESCRIPTION:Create your own button to wear on Orange Shirt Day—a day to honour Survivors\, their families\, and the children who never came home. \nAll are welcome\, drop-in event\, supplies provided! \n🗓️ Monday\, September 29th\n⏰ 12 pm – 3 pm\n📍 Student Centre Lounge
URL:http://mydcsa.ca/event/button-making-for-orange-shirt-day/
LOCATION:Student Centre Lounge\, 12 Commencement Dr\, Oshawa\, ON\, ON L1G 0C5\, Canada
CATEGORIES:Other
ATTACH;FMTTYPE=image/png:http://mydcsa.ca/wp-content/uploads/2025/09/orange_shirt_day_button_making.png
END:VEVENT
BEGIN:VEVENT
DTSTART;TZID=UTC:20250908T120000
DTEND;TZID=UTC:20250908T150000
DTSTAMP:20260419T134807
CREATED:20250808T194904Z
LAST-MODIFIED:20250811T190559Z
UID:10000052-1757332800-1757343600@mydcsa.ca
SUMMARY:Crafts & Canines – Oshawa
DESCRIPTION:Take a break and drop by for an afternoon of creativity and calm. Meet some friendly therapy dogs and enjoy hands-on crafting in the Student Centre Lounge. \n📅 Monday\, September 8\n 🕛 12 PM – 3 PM\n 📍 Oshawa Campus – Student Centre Lounge \n 
URL:http://mydcsa.ca/event/crafts-canines-oshawa/
LOCATION:Student Centre Lounge\, 12 Commencement Dr\, Oshawa\, ON\, ON L1G 0C5\, Canada
CATEGORIES:Other
ATTACH;FMTTYPE=image/png:http://mydcsa.ca/wp-content/uploads/2025/07/placeholder_event_posts.png
END:VEVENT
BEGIN:VEVENT
DTSTART;TZID=UTC:20250317T130000
DTEND;TZID=UTC:20250317T150000
DTSTAMP:20260419T134807
CREATED:20250312T195012Z
LAST-MODIFIED:20250312T195012Z
UID:10000029-1742216400-1742223600@mydcsa.ca
SUMMARY:St. Patrick's Day with DCSA - Lucky Charms Dessert Bar
DESCRIPTION:Celebrate St. Patrick’s Day with DCSA and enjoy a magically delicious Lucky Charms Dessert Bar! 🍀✨ \n📅 Monday\, March 17th\n⏰1-3 PM\n📍Student Centre Lounge!
URL:http://mydcsa.ca/event/st-patricks-day-with-dcsa-lucky-charms-dessert-bar/
LOCATION:Student Centre Lounge\, 12 Commencement Dr\, Oshawa\, ON\, ON L1G 0C5\, Canada
CATEGORIES:Other
ATTACH;FMTTYPE=image/png:http://mydcsa.ca/wp-content/uploads/2025/03/lucky_charms.png
END:VEVENT
BEGIN:VEVENT
DTSTART;TZID=UTC:20250312T130000
DTEND;TZID=UTC:20250312T150000
DTSTAMP:20260419T134807
CREATED:20250312T193527Z
LAST-MODIFIED:20250312T193527Z
UID:10000025-1741784400-1741791600@mydcsa.ca
SUMMARY:CCAA Mens Basketball Championship Stream
DESCRIPTION:Don’t miss a moment! \nWe’re streaming the first game of the CCAA Men’s Basketball Championship as the Lords hit the court!\nThe first-floor lounge and student centre have a FREE lunch included!
URL:http://mydcsa.ca/event/ccaa-mens-basketball-championship-stream/
LOCATION:Student Centre Lounge\, 12 Commencement Dr\, Oshawa\, ON\, ON L1G 0C5\, Canada
CATEGORIES:Other
ATTACH;FMTTYPE=image/png:http://mydcsa.ca/wp-content/uploads/2025/03/CCAA_bball_stream-IG.png
END:VEVENT
END:VCALENDAR