BEGIN:VCALENDAR
VERSION:2.0
PRODID:-//DCSA - ECPv6.15.20//NONSGML v1.0//EN
CALSCALE:GREGORIAN
METHOD:PUBLISH
X-WR-CALNAME:DCSA
X-ORIGINAL-URL:http://mydcsa.ca
X-WR-CALDESC:Events for DCSA
REFRESH-INTERVAL;VALUE=DURATION:PT1H
X-Robots-Tag:noindex
X-PUBLISHED-TTL:PT1H
BEGIN:VTIMEZONE
TZID:America/New_York
BEGIN:DAYLIGHT
TZOFFSETFROM:-0500
TZOFFSETTO:-0400
TZNAME:EDT
DTSTART:20250309T070000
END:DAYLIGHT
BEGIN:STANDARD
TZOFFSETFROM:-0400
TZOFFSETTO:-0500
TZNAME:EST
DTSTART:20251102T060000
END:STANDARD
BEGIN:DAYLIGHT
TZOFFSETFROM:-0500
TZOFFSETTO:-0400
TZNAME:EDT
DTSTART:20260308T070000
END:DAYLIGHT
BEGIN:STANDARD
TZOFFSETFROM:-0400
TZOFFSETTO:-0500
TZNAME:EST
DTSTART:20261101T060000
END:STANDARD
BEGIN:DAYLIGHT
TZOFFSETFROM:-0500
TZOFFSETTO:-0400
TZNAME:EDT
DTSTART:20270314T070000
END:DAYLIGHT
BEGIN:STANDARD
TZOFFSETFROM:-0400
TZOFFSETTO:-0500
TZNAME:EST
DTSTART:20271107T060000
END:STANDARD
END:VTIMEZONE
BEGIN:VTIMEZONE
TZID:UTC
BEGIN:STANDARD
TZOFFSETFROM:+0000
TZOFFSETTO:+0000
TZNAME:UTC
DTSTART:20250101T000000
END:STANDARD
END:VTIMEZONE
BEGIN:VEVENT
DTSTART;TZID=America/New_York:20260304T103000
DTEND;TZID=America/New_York:20260304T150000
DTSTAMP:20260424T185433
CREATED:20260227T234444Z
LAST-MODIFIED:20260227T234625Z
UID:10000103-1772620200-1772636400@mydcsa.ca
SUMMARY:Rally For OSAP
DESCRIPTION:Students deserve better. \nRecent grant cuts to OSAP put current and future students at risk. Reduced grants mean less access to education and greater financial stress. Together\, we can send a clear message to the Ontario government: education must remain accessible. \nJoin us on March 4 at 12:30 PM at Queen’s Park as we Rally for OSAP alongside student unions across the province. \nNeed a ride? We’ve got you covered.\nSave your seat using the link!\nhttps://docs.google.com/forms/d/e/1FAIpQLSc1k8OCTGqIkaM0ufJImXqU1UTlxqsK8ZcNH0USCAVQ7A37Rw/viewform  \nBus departs from the Oshawa Campus Student Centre at 10:30 AM on March 4.\nSpots are limited. You’ll receive a confirmation if you secure a seat. Once full\, a waitlist will begin.
URL:http://mydcsa.ca/event/rally-for-osap/
LOCATION:Ontario
CATEGORIES:Other
ATTACH;FMTTYPE=image/png:http://mydcsa.ca/wp-content/uploads/2026/02/osap_rally_ig_post.png
END:VEVENT
BEGIN:VEVENT
DTSTART;TZID=UTC:20260311T100000
DTEND;TZID=UTC:20260311T160000
DTSTAMP:20260424T185433
CREATED:20260226T003337Z
LAST-MODIFIED:20260306T005158Z
UID:10000101-1773223200-1773244800@mydcsa.ca
SUMMARY:Campus Con 4
DESCRIPTION:Heroes\, villains\, and everything in between—Campus Con is BACK! 🎭✨ \nStep into a world of cosplay\, pop culture\, and giveaways—all without leaving campus. \n🗓️ Wednesday\, March 11th\, 2026\n🕚 10 AM – 4 PM\n📍 The Pit Oshawa Campus \nYour ultimate Comic Con experience… right here at home. 💥 \nWhitby Campus… stay tuned 👀
URL:http://mydcsa.ca/event/campus-con-4/
LOCATION:The Pit
CATEGORIES:Esports,Other
ATTACH;FMTTYPE=image/png:http://mydcsa.ca/wp-content/uploads/2026/02/campus_con_digital_instagram.png
END:VEVENT
BEGIN:VEVENT
DTSTART;TZID=UTC:20260311T110000
DTEND;TZID=UTC:20260311T150000
DTSTAMP:20260424T185433
CREATED:20260218T210712Z
LAST-MODIFIED:20260218T210712Z
UID:10000098-1773226800-1773241200@mydcsa.ca
SUMMARY:Puppy Yoga
DESCRIPTION:The most wholesome workout of the semester is BACK! 🐶🧘‍♀️ \nPuppy Yoga – March 11 & 12\nDay One – March 11 @ DCSA Student Centre Room 217\n11:00 to 12:00\n12:30 to 1:30\n2:00 to 3:00 \nDay Two – March 12 @ DCSA Student Centre Room 217\n10:30 to 11:30\n12:00 to 1:00\n1:30 to 2:30 \nRegistration opens on Wednesday\, February 25\, at 12:00 p.m. Spots are limited\, so to secure your mat\, a $5 refundable deposit is required and will be charged to your student account. The charge will be removed once attendance is taken and you’ve attended your session. If you’re unable to attend and don’t cancel ahead of time\, the deposit will be forfeited.
URL:http://mydcsa.ca/event/puppy-yoga-4/
LOCATION:DCSA Student Centre\, 2000 Simcoe St N\, Oshawa\, Ontario\, L1G 0C5\, Canada
CATEGORIES:Other
ATTACH;FMTTYPE=image/png:http://mydcsa.ca/wp-content/uploads/2026/02/puppyyoga_ig_comingsoon_post1-scaled.png
END:VEVENT
BEGIN:VEVENT
DTSTART;TZID=UTC:20260312T103000
DTEND;TZID=UTC:20260312T140000
DTSTAMP:20260424T185433
CREATED:20260218T210843Z
LAST-MODIFIED:20260218T210843Z
UID:10000099-1773311400-1773324000@mydcsa.ca
SUMMARY:Puppy Yoga
DESCRIPTION:The most wholesome workout of the semester is BACK! 🐶🧘‍♀️ \nPuppy Yoga – March 11 & 12\nDay One – March 11 @ DCSA Student Centre Room 217\n11:00 to 12:00\n12:30 to 1:30\n2:00 to 3:00 \nDay Two – March 12 @ DCSA Student Centre Room 217\n10:30 to 11:30\n12:00 to 1:00\n1:30 to 2:30 \nRegistration opens on Wednesday\, February 25 at 12:00 p.m. Spots are limited\, so to secure your mat\, a $5 refundable deposit is required and will be charged to your student account. The charge will be removed once attendance is taken and you’ve attended your session. If you’re unable to attend and don’t cancel ahead of time\, the deposit will be forfeited.
URL:http://mydcsa.ca/event/puppy-yoga-5/
LOCATION:DCSA Student Centre\, 2000 Simcoe St N\, Oshawa\, Ontario\, L1G 0C5\, Canada
CATEGORIES:Other
ATTACH;FMTTYPE=image/png:http://mydcsa.ca/wp-content/uploads/2026/02/puppyyoga_ig_comingsoon_post1-scaled.png
END:VEVENT
BEGIN:VEVENT
DTSTART;TZID=UTC:20260312T180000
DTEND;TZID=UTC:20260312T200000
DTSTAMP:20260424T185433
CREATED:20260306T220037Z
LAST-MODIFIED:20260306T220146Z
UID:10000105-1773338400-1773345600@mydcsa.ca
SUMMARY:Discord Movie Night
DESCRIPTION:Join us for a Discord Movie Night! \nHang out with fellow students via Discord\, watch a movie together\, and relax after a long day. The movie will be chosen soon\, so stay tuned in the server for the reveal. \n📅 Thursday\, March 12⏰ 6 PM – 8 PM📍 In our Discord server🎥 Movie: TBD
URL:http://mydcsa.ca/event/discord-movie-night/
LOCATION:Ontario
CATEGORIES:Esports,Other
ATTACH;FMTTYPE=image/png:http://mydcsa.ca/wp-content/uploads/2026/03/esports_discord_movie_night.png
END:VEVENT
BEGIN:VEVENT
DTSTART;TZID=UTC:20260317T180000
DTEND;TZID=UTC:20260318T210000
DTSTAMP:20260424T185433
CREATED:20260226T023151Z
LAST-MODIFIED:20260306T005758Z
UID:10000102-1773770400-1773867600@mydcsa.ca
SUMMARY:St. Paddy's Paint Night
DESCRIPTION:🍀Create your own luck! 🍀\nThis month’s paint night is sure to change your luck around! Paint\, relax\, and remind yourself that you deserve care\, kindness\, and a little creativity \n🗓 March 17th\, 2026\n⏰ 6 PM – 9 PM\n📍Student Centre\, Room 217\n⚠️ Space is limited | First-come \, first-served.
URL:http://mydcsa.ca/event/st-paddys-paint-night/
LOCATION:Student Centre Room 217\, 12 Commencement Dr\, Oshawa\, ON\, L1G 0C5\, Canada
CATEGORIES:Other
ATTACH;FMTTYPE=image/png:http://mydcsa.ca/wp-content/uploads/2026/02/stpat_paintparty_ig_NEWDATE_post-scaled.png
END:VEVENT
BEGIN:VEVENT
DTSTART;TZID=UTC:20260325T100000
DTEND;TZID=UTC:20260325T160000
DTSTAMP:20260424T185433
CREATED:20260306T215618Z
LAST-MODIFIED:20260306T215618Z
UID:10000104-1774432800-1774454400@mydcsa.ca
SUMMARY:Campus Con Whitby
DESCRIPTION:GUESS WHAT IS COMING TO WHITBY! \nCampus Con is coming to the Whitby campus. Join us for a full day celebrating pop culture with the Comic Con experience right on campus. \n📅 Date: March 25\n⏰ Time: 10 AM – 4 PM\n📍 Location: Don Lovisa Building\, Whitby Campus \nStop by to explore the event\, connect with other fans\, and experience Campus Con hosted by DCSA Esports.
URL:http://mydcsa.ca/event/campus-con-whitby/
LOCATION:Whitby Campus Front Entrance\, 1610 Champlain Ave\, Whitby\, Ontario\, L1N 6A7\, Canada
CATEGORIES:Esports,Other
ATTACH;FMTTYPE=image/png:http://mydcsa.ca/wp-content/uploads/2026/03/campus_con_whitby_digital_instagram.png
END:VEVENT
END:VCALENDAR